BEGIN:VCALENDAR
PRODID:http://www.kufer.de/kuferweb / DE
VERSION:2.0
METHOD:PUBLISH
CALSCALE:GREGORIAN
X-WR-TIMEZONE:Europe/Berlin
BEGIN:VTIMEZONE
TZID:Europe/Berlin
X-LIC-LOCATION:Europe/Berlin
BEGIN:DAYLIGHT
TZOFFSETFROM:+0100
TZOFFSETTO:+0200
TZNAME:CEST
DTSTART;TZID=Europe/Berlin:19700329T020000
RRULE:FREQ=YEARLY;INTERVAL=1;BYDAY=-1SU;BYMONTH=3
END:DAYLIGHT
BEGIN:STANDARD
TZOFFSETFROM:+0200
TZOFFSETTO:+0100
TZNAME:CET
DTSTART;TZID=Europe/Berlin:19701025T030000
RRULE:FREQ=YEARLY;INTERVAL=1;BYDAY=-1SU;BYMONTH=10
END:STANDARD
END:VTIMEZONE
BEGIN:VEVENT
DTSTAMP:20260422T111440
DTSTART;TZID=Europe/Berlin:20250703T103000
DTEND;TZID=Europe/Berlin:20250703T235900
UID:F1.8.02-20250703T103000@EFBGÖTTINGEN
SUMMARY:FaBi – Familien – Challenge Für Familien mit Kindern im Alter bis zu 12 Jahren (F1.8.02) 
LOCATION:extern - Weitere Informationen bei der Anmeldung, , 
END:VEVENT
BEGIN:VEVENT
DTSTAMP:20260422T111440
DTSTART;TZID=Europe/Berlin:20250704T000000
DTEND;TZID=Europe/Berlin:20250704T235900
UID:F1.8.02-20250704T000000@EFBGÖTTINGEN
SUMMARY:FaBi – Familien – Challenge Für Familien mit Kindern im Alter bis zu 12 Jahren (F1.8.02) 
LOCATION:extern - Weitere Informationen bei der Anmeldung, , 
END:VEVENT
BEGIN:VEVENT
DTSTAMP:20260422T111440
DTSTART;TZID=Europe/Berlin:20250705T000000
DTEND;TZID=Europe/Berlin:20250705T235900
UID:F1.8.02-20250705T000000@EFBGÖTTINGEN
SUMMARY:FaBi – Familien – Challenge Für Familien mit Kindern im Alter bis zu 12 Jahren (F1.8.02) 
LOCATION:extern - Weitere Informationen bei der Anmeldung, , 
END:VEVENT
BEGIN:VEVENT
DTSTAMP:20260422T111440
DTSTART;TZID=Europe/Berlin:20250706T000000
DTEND;TZID=Europe/Berlin:20250706T235900
UID:F1.8.02-20250706T000000@EFBGÖTTINGEN
SUMMARY:FaBi – Familien – Challenge Für Familien mit Kindern im Alter bis zu 12 Jahren (F1.8.02) 
LOCATION:extern - Weitere Informationen bei der Anmeldung, , 
END:VEVENT
BEGIN:VEVENT
DTSTAMP:20260422T111440
DTSTART;TZID=Europe/Berlin:20250707T000000
DTEND;TZID=Europe/Berlin:20250707T235900
UID:F1.8.02-20250707T000000@EFBGÖTTINGEN
SUMMARY:FaBi – Familien – Challenge Für Familien mit Kindern im Alter bis zu 12 Jahren (F1.8.02) 
LOCATION:extern - Weitere Informationen bei der Anmeldung, , 
END:VEVENT
BEGIN:VEVENT
DTSTAMP:20260422T111440
DTSTART;TZID=Europe/Berlin:20250708T000000
DTEND;TZID=Europe/Berlin:20250708T235900
UID:F1.8.02-20250708T000000@EFBGÖTTINGEN
SUMMARY:FaBi – Familien – Challenge Für Familien mit Kindern im Alter bis zu 12 Jahren (F1.8.02) 
LOCATION:extern - Weitere Informationen bei der Anmeldung, , 
END:VEVENT
BEGIN:VEVENT
DTSTAMP:20260422T111440
DTSTART;TZID=Europe/Berlin:20250709T000000
DTEND;TZID=Europe/Berlin:20250709T235900
UID:F1.8.02-20250709T000000@EFBGÖTTINGEN
SUMMARY:FaBi – Familien – Challenge Für Familien mit Kindern im Alter bis zu 12 Jahren (F1.8.02) 
LOCATION:extern - Weitere Informationen bei der Anmeldung, , 
END:VEVENT
BEGIN:VEVENT
DTSTAMP:20260422T111440
DTSTART;TZID=Europe/Berlin:20250710T000000
DTEND;TZID=Europe/Berlin:20250710T235900
UID:F1.8.02-20250710T000000@EFBGÖTTINGEN
SUMMARY:FaBi – Familien – Challenge Für Familien mit Kindern im Alter bis zu 12 Jahren (F1.8.02) 
LOCATION:extern - Weitere Informationen bei der Anmeldung, , 
END:VEVENT
BEGIN:VEVENT
DTSTAMP:20260422T111440
DTSTART;TZID=Europe/Berlin:20250711T000000
DTEND;TZID=Europe/Berlin:20250711T235900
UID:F1.8.02-20250711T000000@EFBGÖTTINGEN
SUMMARY:FaBi – Familien – Challenge Für Familien mit Kindern im Alter bis zu 12 Jahren (F1.8.02) 
LOCATION:extern - Weitere Informationen bei der Anmeldung, , 
END:VEVENT
BEGIN:VEVENT
DTSTAMP:20260422T111440
DTSTART;TZID=Europe/Berlin:20250712T000000
DTEND;TZID=Europe/Berlin:20250712T235900
UID:F1.8.02-20250712T000000@EFBGÖTTINGEN
SUMMARY:FaBi – Familien – Challenge Für Familien mit Kindern im Alter bis zu 12 Jahren (F1.8.02) 
LOCATION:extern - Weitere Informationen bei der Anmeldung, , 
END:VEVENT
BEGIN:VEVENT
DTSTAMP:20260422T111440
DTSTART;TZID=Europe/Berlin:20250713T000000
DTEND;TZID=Europe/Berlin:20250713T235900
UID:F1.8.02-20250713T000000@EFBGÖTTINGEN
SUMMARY:FaBi – Familien – Challenge Für Familien mit Kindern im Alter bis zu 12 Jahren (F1.8.02) 
LOCATION:extern - Weitere Informationen bei der Anmeldung, , 
END:VEVENT
BEGIN:VEVENT
DTSTAMP:20260422T111440
DTSTART;TZID=Europe/Berlin:20250714T000000
DTEND;TZID=Europe/Berlin:20250714T235900
UID:F1.8.02-20250714T000000@EFBGÖTTINGEN
SUMMARY:FaBi – Familien – Challenge Für Familien mit Kindern im Alter bis zu 12 Jahren (F1.8.02) 
LOCATION:extern - Weitere Informationen bei der Anmeldung, , 
END:VEVENT
BEGIN:VEVENT
DTSTAMP:20260422T111440
DTSTART;TZID=Europe/Berlin:20250715T000000
DTEND;TZID=Europe/Berlin:20250715T235900
UID:F1.8.02-20250715T000000@EFBGÖTTINGEN
SUMMARY:FaBi – Familien – Challenge Für Familien mit Kindern im Alter bis zu 12 Jahren (F1.8.02) 
LOCATION:extern - Weitere Informationen bei der Anmeldung, , 
END:VEVENT
BEGIN:VEVENT
DTSTAMP:20260422T111440
DTSTART;TZID=Europe/Berlin:20250716T000000
DTEND;TZID=Europe/Berlin:20250716T235900
UID:F1.8.02-20250716T000000@EFBGÖTTINGEN
SUMMARY:FaBi – Familien – Challenge Für Familien mit Kindern im Alter bis zu 12 Jahren (F1.8.02) 
LOCATION:extern - Weitere Informationen bei der Anmeldung, , 
END:VEVENT
BEGIN:VEVENT
DTSTAMP:20260422T111440
DTSTART;TZID=Europe/Berlin:20250717T000000
DTEND;TZID=Europe/Berlin:20250717T235900
UID:F1.8.02-20250717T000000@EFBGÖTTINGEN
SUMMARY:FaBi – Familien – Challenge Für Familien mit Kindern im Alter bis zu 12 Jahren (F1.8.02) 
LOCATION:extern - Weitere Informationen bei der Anmeldung, , 
END:VEVENT
BEGIN:VEVENT
DTSTAMP:20260422T111440
DTSTART;TZID=Europe/Berlin:20250718T000000
DTEND;TZID=Europe/Berlin:20250718T235900
UID:F1.8.02-20250718T000000@EFBGÖTTINGEN
SUMMARY:FaBi – Familien – Challenge Für Familien mit Kindern im Alter bis zu 12 Jahren (F1.8.02) 
LOCATION:extern - Weitere Informationen bei der Anmeldung, , 
END:VEVENT
BEGIN:VEVENT
DTSTAMP:20260422T111440
DTSTART;TZID=Europe/Berlin:20250719T000000
DTEND;TZID=Europe/Berlin:20250719T235900
UID:F1.8.02-20250719T000000@EFBGÖTTINGEN
SUMMARY:FaBi – Familien – Challenge Für Familien mit Kindern im Alter bis zu 12 Jahren (F1.8.02) 
LOCATION:extern - Weitere Informationen bei der Anmeldung, , 
END:VEVENT
BEGIN:VEVENT
DTSTAMP:20260422T111440
DTSTART;TZID=Europe/Berlin:20250720T000000
DTEND;TZID=Europe/Berlin:20250720T235900
UID:F1.8.02-20250720T000000@EFBGÖTTINGEN
SUMMARY:FaBi – Familien – Challenge Für Familien mit Kindern im Alter bis zu 12 Jahren (F1.8.02) 
LOCATION:extern - Weitere Informationen bei der Anmeldung, , 
END:VEVENT
BEGIN:VEVENT
DTSTAMP:20260422T111440
DTSTART;TZID=Europe/Berlin:20250721T000000
DTEND;TZID=Europe/Berlin:20250721T235900
UID:F1.8.02-20250721T000000@EFBGÖTTINGEN
SUMMARY:FaBi – Familien – Challenge Für Familien mit Kindern im Alter bis zu 12 Jahren (F1.8.02) 
LOCATION:extern - Weitere Informationen bei der Anmeldung, , 
END:VEVENT
BEGIN:VEVENT
DTSTAMP:20260422T111440
DTSTART;TZID=Europe/Berlin:20250722T000000
DTEND;TZID=Europe/Berlin:20250722T235900
UID:F1.8.02-20250722T000000@EFBGÖTTINGEN
SUMMARY:FaBi – Familien – Challenge Für Familien mit Kindern im Alter bis zu 12 Jahren (F1.8.02) 
LOCATION:extern - Weitere Informationen bei der Anmeldung, , 
END:VEVENT
BEGIN:VEVENT
DTSTAMP:20260422T111440
DTSTART;TZID=Europe/Berlin:20250723T000000
DTEND;TZID=Europe/Berlin:20250723T235900
UID:F1.8.02-20250723T000000@EFBGÖTTINGEN
SUMMARY:FaBi – Familien – Challenge Für Familien mit Kindern im Alter bis zu 12 Jahren (F1.8.02) 
LOCATION:extern - Weitere Informationen bei der Anmeldung, , 
END:VEVENT
BEGIN:VEVENT
DTSTAMP:20260422T111440
DTSTART;TZID=Europe/Berlin:20250724T000000
DTEND;TZID=Europe/Berlin:20250724T235900
UID:F1.8.02-20250724T000000@EFBGÖTTINGEN
SUMMARY:FaBi – Familien – Challenge Für Familien mit Kindern im Alter bis zu 12 Jahren (F1.8.02) 
LOCATION:extern - Weitere Informationen bei der Anmeldung, , 
END:VEVENT
BEGIN:VEVENT
DTSTAMP:20260422T111440
DTSTART;TZID=Europe/Berlin:20250725T000000
DTEND;TZID=Europe/Berlin:20250725T235900
UID:F1.8.02-20250725T000000@EFBGÖTTINGEN
SUMMARY:FaBi – Familien – Challenge Für Familien mit Kindern im Alter bis zu 12 Jahren (F1.8.02) 
LOCATION:extern - Weitere Informationen bei der Anmeldung, , 
END:VEVENT
BEGIN:VEVENT
DTSTAMP:20260422T111440
DTSTART;TZID=Europe/Berlin:20250726T000000
DTEND;TZID=Europe/Berlin:20250726T235900
UID:F1.8.02-20250726T000000@EFBGÖTTINGEN
SUMMARY:FaBi – Familien – Challenge Für Familien mit Kindern im Alter bis zu 12 Jahren (F1.8.02) 
LOCATION:extern - Weitere Informationen bei der Anmeldung, , 
END:VEVENT
BEGIN:VEVENT
DTSTAMP:20260422T111440
DTSTART;TZID=Europe/Berlin:20250727T000000
DTEND;TZID=Europe/Berlin:20250727T235900
UID:F1.8.02-20250727T000000@EFBGÖTTINGEN
SUMMARY:FaBi – Familien – Challenge Für Familien mit Kindern im Alter bis zu 12 Jahren (F1.8.02) 
LOCATION:extern - Weitere Informationen bei der Anmeldung, , 
END:VEVENT
BEGIN:VEVENT
DTSTAMP:20260422T111440
DTSTART;TZID=Europe/Berlin:20250728T000000
DTEND;TZID=Europe/Berlin:20250728T235900
UID:F1.8.02-20250728T000000@EFBGÖTTINGEN
SUMMARY:FaBi – Familien – Challenge Für Familien mit Kindern im Alter bis zu 12 Jahren (F1.8.02) 
LOCATION:extern - Weitere Informationen bei der Anmeldung, , 
END:VEVENT
BEGIN:VEVENT
DTSTAMP:20260422T111440
DTSTART;TZID=Europe/Berlin:20250729T000000
DTEND;TZID=Europe/Berlin:20250729T235900
UID:F1.8.02-20250729T000000@EFBGÖTTINGEN
SUMMARY:FaBi – Familien – Challenge Für Familien mit Kindern im Alter bis zu 12 Jahren (F1.8.02) 
LOCATION:extern - Weitere Informationen bei der Anmeldung, , 
END:VEVENT
BEGIN:VEVENT
DTSTAMP:20260422T111440
DTSTART;TZID=Europe/Berlin:20250730T000000
DTEND;TZID=Europe/Berlin:20250730T235900
UID:F1.8.02-20250730T000000@EFBGÖTTINGEN
SUMMARY:FaBi – Familien – Challenge Für Familien mit Kindern im Alter bis zu 12 Jahren (F1.8.02) 
LOCATION:extern - Weitere Informationen bei der Anmeldung, , 
END:VEVENT
BEGIN:VEVENT
DTSTAMP:20260422T111440
DTSTART;TZID=Europe/Berlin:20250731T000000
DTEND;TZID=Europe/Berlin:20250731T235900
UID:F1.8.02-20250731T000000@EFBGÖTTINGEN
SUMMARY:FaBi – Familien – Challenge Für Familien mit Kindern im Alter bis zu 12 Jahren (F1.8.02) 
LOCATION:extern - Weitere Informationen bei der Anmeldung, , 
END:VEVENT
BEGIN:VEVENT
DTSTAMP:20260422T111440
DTSTART;TZID=Europe/Berlin:20250801T000000
DTEND;TZID=Europe/Berlin:20250801T235900
UID:F1.8.02-20250801T000000@EFBGÖTTINGEN
SUMMARY:FaBi – Familien – Challenge Für Familien mit Kindern im Alter bis zu 12 Jahren (F1.8.02) 
LOCATION:extern - Weitere Informationen bei der Anmeldung, , 
END:VEVENT
BEGIN:VEVENT
DTSTAMP:20260422T111440
DTSTART;TZID=Europe/Berlin:20250802T000000
DTEND;TZID=Europe/Berlin:20250802T235900
UID:F1.8.02-20250802T000000@EFBGÖTTINGEN
SUMMARY:FaBi – Familien – Challenge Für Familien mit Kindern im Alter bis zu 12 Jahren (F1.8.02) 
LOCATION:extern - Weitere Informationen bei der Anmeldung, , 
END:VEVENT
BEGIN:VEVENT
DTSTAMP:20260422T111440
DTSTART;TZID=Europe/Berlin:20250803T000000
DTEND;TZID=Europe/Berlin:20250803T235900
UID:F1.8.02-20250803T000000@EFBGÖTTINGEN
SUMMARY:FaBi – Familien – Challenge Für Familien mit Kindern im Alter bis zu 12 Jahren (F1.8.02) 
LOCATION:extern - Weitere Informationen bei der Anmeldung, , 
END:VEVENT
BEGIN:VEVENT
DTSTAMP:20260422T111440
DTSTART;TZID=Europe/Berlin:20250804T000000
DTEND;TZID=Europe/Berlin:20250804T235900
UID:F1.8.02-20250804T000000@EFBGÖTTINGEN
SUMMARY:FaBi – Familien – Challenge Für Familien mit Kindern im Alter bis zu 12 Jahren (F1.8.02) 
LOCATION:extern - Weitere Informationen bei der Anmeldung, , 
END:VEVENT
BEGIN:VEVENT
DTSTAMP:20260422T111440
DTSTART;TZID=Europe/Berlin:20250805T000000
DTEND;TZID=Europe/Berlin:20250805T235900
UID:F1.8.02-20250805T000000@EFBGÖTTINGEN
SUMMARY:FaBi – Familien – Challenge Für Familien mit Kindern im Alter bis zu 12 Jahren (F1.8.02) 
LOCATION:extern - Weitere Informationen bei der Anmeldung, , 
END:VEVENT
BEGIN:VEVENT
DTSTAMP:20260422T111440
DTSTART;TZID=Europe/Berlin:20250806T000000
DTEND;TZID=Europe/Berlin:20250806T235900
UID:F1.8.02-20250806T000000@EFBGÖTTINGEN
SUMMARY:FaBi – Familien – Challenge Für Familien mit Kindern im Alter bis zu 12 Jahren (F1.8.02) 
LOCATION:extern - Weitere Informationen bei der Anmeldung, , 
END:VEVENT
BEGIN:VEVENT
DTSTAMP:20260422T111440
DTSTART;TZID=Europe/Berlin:20250807T000000
DTEND;TZID=Europe/Berlin:20250807T235900
UID:F1.8.02-20250807T000000@EFBGÖTTINGEN
SUMMARY:FaBi – Familien – Challenge Für Familien mit Kindern im Alter bis zu 12 Jahren (F1.8.02) 
LOCATION:extern - Weitere Informationen bei der Anmeldung, , 
END:VEVENT
BEGIN:VEVENT
DTSTAMP:20260422T111440
DTSTART;TZID=Europe/Berlin:20250808T000000
DTEND;TZID=Europe/Berlin:20250808T235900
UID:F1.8.02-20250808T000000@EFBGÖTTINGEN
SUMMARY:FaBi – Familien – Challenge Für Familien mit Kindern im Alter bis zu 12 Jahren (F1.8.02) 
LOCATION:extern - Weitere Informationen bei der Anmeldung, , 
END:VEVENT
BEGIN:VEVENT
DTSTAMP:20260422T111440
DTSTART;TZID=Europe/Berlin:20250809T000000
DTEND;TZID=Europe/Berlin:20250809T235900
UID:F1.8.02-20250809T000000@EFBGÖTTINGEN
SUMMARY:FaBi – Familien – Challenge Für Familien mit Kindern im Alter bis zu 12 Jahren (F1.8.02) 
LOCATION:extern - Weitere Informationen bei der Anmeldung, , 
END:VEVENT
BEGIN:VEVENT
DTSTAMP:20260422T111440
DTSTART;TZID=Europe/Berlin:20250810T000000
DTEND;TZID=Europe/Berlin:20250810T235900
UID:F1.8.02-20250810T000000@EFBGÖTTINGEN
SUMMARY:FaBi – Familien – Challenge Für Familien mit Kindern im Alter bis zu 12 Jahren (F1.8.02) 
LOCATION:extern - Weitere Informationen bei der Anmeldung, , 
END:VEVENT
BEGIN:VEVENT
DTSTAMP:20260422T111440
DTSTART;TZID=Europe/Berlin:20250811T000000
DTEND;TZID=Europe/Berlin:20250811T235900
UID:F1.8.02-20250811T000000@EFBGÖTTINGEN
SUMMARY:FaBi – Familien – Challenge Für Familien mit Kindern im Alter bis zu 12 Jahren (F1.8.02) 
LOCATION:extern - Weitere Informationen bei der Anmeldung, , 
END:VEVENT
BEGIN:VEVENT
DTSTAMP:20260422T111440
DTSTART;TZID=Europe/Berlin:20250812T000000
DTEND;TZID=Europe/Berlin:20250812T235900
UID:F1.8.02-20250812T000000@EFBGÖTTINGEN
SUMMARY:FaBi – Familien – Challenge Für Familien mit Kindern im Alter bis zu 12 Jahren (F1.8.02) 
LOCATION:extern - Weitere Informationen bei der Anmeldung, , 
END:VEVENT
BEGIN:VEVENT
DTSTAMP:20260422T111440
DTSTART;TZID=Europe/Berlin:20250813T000000
DTEND;TZID=Europe/Berlin:20250813T235900
UID:F1.8.02-20250813T000000@EFBGÖTTINGEN
SUMMARY:FaBi – Familien – Challenge Für Familien mit Kindern im Alter bis zu 12 Jahren (F1.8.02) 
LOCATION:extern - Weitere Informationen bei der Anmeldung, , 
END:VEVENT
END:VCALENDAR