BEGIN:VCALENDAR
PRODID:http://www.kufer.de/kuferweb / DE
VERSION:2.0
METHOD:PUBLISH
CALSCALE:GREGORIAN
X-WR-TIMEZONE:Europe/Berlin
BEGIN:VTIMEZONE
TZID:Europe/Berlin
X-LIC-LOCATION:Europe/Berlin
BEGIN:DAYLIGHT
TZOFFSETFROM:+0100
TZOFFSETTO:+0200
TZNAME:CEST
DTSTART;TZID=Europe/Berlin:19700329T020000
RRULE:FREQ=YEARLY;INTERVAL=1;BYDAY=-1SU;BYMONTH=3
END:DAYLIGHT
BEGIN:STANDARD
TZOFFSETFROM:+0200
TZOFFSETTO:+0100
TZNAME:CET
DTSTART;TZID=Europe/Berlin:19701025T030000
RRULE:FREQ=YEARLY;INTERVAL=1;BYDAY=-1SU;BYMONTH=10
END:STANDARD
END:VTIMEZONE
BEGIN:VEVENT
DTSTAMP:20260421T105446
DTSTART;TZID=Europe/Berlin:20251022T100000
DTEND;TZID=Europe/Berlin:20251022T110000
UID:F6.1.10-20251022T100000@EFBGÖTTINGEN
SUMMARY:Den Beckenboden stärken (F6.1.10) 
LOCATION:Raum 6 - Gymnastikraum, Neustadt 18, 37073 Göttingen
END:VEVENT
BEGIN:VEVENT
DTSTAMP:20260421T105446
DTSTART;TZID=Europe/Berlin:20251029T100000
DTEND;TZID=Europe/Berlin:20251029T110000
UID:F6.1.10-20251029T100000@EFBGÖTTINGEN
SUMMARY:Den Beckenboden stärken (F6.1.10) 
LOCATION:Raum 6 - Gymnastikraum, Neustadt 18, 37073 Göttingen
END:VEVENT
BEGIN:VEVENT
DTSTAMP:20260421T105446
DTSTART;TZID=Europe/Berlin:20251105T100000
DTEND;TZID=Europe/Berlin:20251105T110000
UID:F6.1.10-20251105T100000@EFBGÖTTINGEN
SUMMARY:Den Beckenboden stärken (F6.1.10) 
LOCATION:Raum 6 - Gymnastikraum, Neustadt 18, 37073 Göttingen
END:VEVENT
BEGIN:VEVENT
DTSTAMP:20260421T105446
DTSTART;TZID=Europe/Berlin:20251112T100000
DTEND;TZID=Europe/Berlin:20251112T110000
UID:F6.1.10-20251112T100000@EFBGÖTTINGEN
SUMMARY:Den Beckenboden stärken (F6.1.10) 
LOCATION:Raum 6 - Gymnastikraum, Neustadt 18, 37073 Göttingen
END:VEVENT
BEGIN:VEVENT
DTSTAMP:20260421T105446
DTSTART;TZID=Europe/Berlin:20251119T100000
DTEND;TZID=Europe/Berlin:20251119T110000
UID:F6.1.10-20251119T100000@EFBGÖTTINGEN
SUMMARY:Den Beckenboden stärken (F6.1.10) 
LOCATION:Raum 6 - Gymnastikraum, Neustadt 18, 37073 Göttingen
END:VEVENT
BEGIN:VEVENT
DTSTAMP:20260421T105446
DTSTART;TZID=Europe/Berlin:20251126T100000
DTEND;TZID=Europe/Berlin:20251126T110000
UID:F6.1.10-20251126T100000@EFBGÖTTINGEN
SUMMARY:Den Beckenboden stärken (F6.1.10) 
LOCATION:Raum 6 - Gymnastikraum, Neustadt 18, 37073 Göttingen
END:VEVENT
BEGIN:VEVENT
DTSTAMP:20260421T105446
DTSTART;TZID=Europe/Berlin:20251203T100000
DTEND;TZID=Europe/Berlin:20251203T110000
UID:F6.1.10-20251203T100000@EFBGÖTTINGEN
SUMMARY:Den Beckenboden stärken (F6.1.10) 
LOCATION:Raum 6 - Gymnastikraum, Neustadt 18, 37073 Göttingen
END:VEVENT
BEGIN:VEVENT
DTSTAMP:20260421T105446
DTSTART;TZID=Europe/Berlin:20251210T100000
DTEND;TZID=Europe/Berlin:20251210T110000
UID:F6.1.10-20251210T100000@EFBGÖTTINGEN
SUMMARY:Den Beckenboden stärken (F6.1.10) 
LOCATION:Raum 6 - Gymnastikraum, Neustadt 18, 37073 Göttingen
END:VEVENT
END:VCALENDAR