BEGIN:VCALENDAR
PRODID:http://www.kufer.de/kuferweb / DE
VERSION:2.0
METHOD:PUBLISH
CALSCALE:GREGORIAN
X-WR-TIMEZONE:Europe/Berlin
BEGIN:VTIMEZONE
TZID:Europe/Berlin
X-LIC-LOCATION:Europe/Berlin
BEGIN:DAYLIGHT
TZOFFSETFROM:+0100
TZOFFSETTO:+0200
TZNAME:CEST
DTSTART;TZID=Europe/Berlin:19700329T020000
RRULE:FREQ=YEARLY;INTERVAL=1;BYDAY=-1SU;BYMONTH=3
END:DAYLIGHT
BEGIN:STANDARD
TZOFFSETFROM:+0200
TZOFFSETTO:+0100
TZNAME:CET
DTSTART;TZID=Europe/Berlin:19701025T030000
RRULE:FREQ=YEARLY;INTERVAL=1;BYDAY=-1SU;BYMONTH=10
END:STANDARD
END:VTIMEZONE
BEGIN:VEVENT
DTSTAMP:20260421T105619
DTSTART;TZID=Europe/Berlin:20260928T170000
DTEND;TZID=Europe/Berlin:20260928T193000
UID:G8.1.65-20260928T170000@EFBGÖTTINGEN
SUMMARY:Nähen am Abend Nähkurs für Teilnehmende mit wenig Näherfahrung (G8.1.65) 
LOCATION:Raum 7 - Nähraum, Neustadt 18, 37073 Göttingen
END:VEVENT
BEGIN:VEVENT
DTSTAMP:20260421T105619
DTSTART;TZID=Europe/Berlin:20261005T170000
DTEND;TZID=Europe/Berlin:20261005T193000
UID:G8.1.65-20261005T170000@EFBGÖTTINGEN
SUMMARY:Nähen am Abend Nähkurs für Teilnehmende mit wenig Näherfahrung (G8.1.65) 
LOCATION:Raum 7 - Nähraum, Neustadt 18, 37073 Göttingen
END:VEVENT
BEGIN:VEVENT
DTSTAMP:20260421T105619
DTSTART;TZID=Europe/Berlin:20261012T170000
DTEND;TZID=Europe/Berlin:20261012T193000
UID:G8.1.65-20261012T170000@EFBGÖTTINGEN
SUMMARY:Nähen am Abend Nähkurs für Teilnehmende mit wenig Näherfahrung (G8.1.65) 
LOCATION:Raum 7 - Nähraum, Neustadt 18, 37073 Göttingen
END:VEVENT
BEGIN:VEVENT
DTSTAMP:20260421T105619
DTSTART;TZID=Europe/Berlin:20261019T170000
DTEND;TZID=Europe/Berlin:20261019T193000
UID:G8.1.65-20261019T170000@EFBGÖTTINGEN
SUMMARY:Nähen am Abend Nähkurs für Teilnehmende mit wenig Näherfahrung (G8.1.65) 
LOCATION:Raum 7 - Nähraum, Neustadt 18, 37073 Göttingen
END:VEVENT
BEGIN:VEVENT
DTSTAMP:20260421T105619
DTSTART;TZID=Europe/Berlin:20261026T170000
DTEND;TZID=Europe/Berlin:20261026T193000
UID:G8.1.65-20261026T170000@EFBGÖTTINGEN
SUMMARY:Nähen am Abend Nähkurs für Teilnehmende mit wenig Näherfahrung (G8.1.65) 
LOCATION:Raum 7 - Nähraum, Neustadt 18, 37073 Göttingen
END:VEVENT
BEGIN:VEVENT
DTSTAMP:20260421T105619
DTSTART;TZID=Europe/Berlin:20261102T170000
DTEND;TZID=Europe/Berlin:20261102T193000
UID:G8.1.65-20261102T170000@EFBGÖTTINGEN
SUMMARY:Nähen am Abend Nähkurs für Teilnehmende mit wenig Näherfahrung (G8.1.65) 
LOCATION:Raum 7 - Nähraum, Neustadt 18, 37073 Göttingen
END:VEVENT
BEGIN:VEVENT
DTSTAMP:20260421T105619
DTSTART;TZID=Europe/Berlin:20261109T170000
DTEND;TZID=Europe/Berlin:20261109T193000
UID:G8.1.65-20261109T170000@EFBGÖTTINGEN
SUMMARY:Nähen am Abend Nähkurs für Teilnehmende mit wenig Näherfahrung (G8.1.65) 
LOCATION:Raum 7 - Nähraum, Neustadt 18, 37073 Göttingen
END:VEVENT
BEGIN:VEVENT
DTSTAMP:20260421T105619
DTSTART;TZID=Europe/Berlin:20261116T170000
DTEND;TZID=Europe/Berlin:20261116T193000
UID:G8.1.65-20261116T170000@EFBGÖTTINGEN
SUMMARY:Nähen am Abend Nähkurs für Teilnehmende mit wenig Näherfahrung (G8.1.65) 
LOCATION:Raum 7 - Nähraum, Neustadt 18, 37073 Göttingen
END:VEVENT
END:VCALENDAR